BEGIN:VCALENDAR
VERSION:2.0
PRODID:Southern Cross Archery Club
CALSCALE:GREGORIAN
BEGIN:VEVENT
DTSTAMP:20260424T080131Z
UID:806945cc-bafb-4242-a2a7-7cc6add6988a
DTSTART:20260314T125900Z
DTEND:20260314T125900Z
DESCRIPTION:
SUMMARY:SCAC Commitee Meeting
URL;VALUE=URI:https://southerncrossarchery.com/public/schedule/meetings/1ed
 09ccdf2d3fda9
END:VEVENT
END:VCALENDAR
